BEGIN:VCALENDAR
VERSION:2.0
PRODID:-//LO PARVI - ECPv6.15.18//NONSGML v1.0//EN
CALSCALE:GREGORIAN
METHOD:PUBLISH
X-ORIGINAL-URL:https://loparvi.fr
X-WR-CALDESC:Évènements pour LO PARVI
REFRESH-INTERVAL;VALUE=DURATION:PT1H
X-Robots-Tag:noindex
X-PUBLISHED-TTL:PT1H
BEGIN:VTIMEZONE
TZID:Europe/Paris
BEGIN:DAYLIGHT
TZOFFSETFROM:+0100
TZOFFSETTO:+0200
TZNAME:CEST
DTSTART:20250330T010000
END:DAYLIGHT
BEGIN:STANDARD
TZOFFSETFROM:+0200
TZOFFSETTO:+0100
TZNAME:CET
DTSTART:20251026T010000
END:STANDARD
BEGIN:DAYLIGHT
TZOFFSETFROM:+0100
TZOFFSETTO:+0200
TZNAME:CEST
DTSTART:20260329T010000
END:DAYLIGHT
BEGIN:STANDARD
TZOFFSETFROM:+0200
TZOFFSETTO:+0100
TZNAME:CET
DTSTART:20261025T010000
END:STANDARD
BEGIN:DAYLIGHT
TZOFFSETFROM:+0100
TZOFFSETTO:+0200
TZNAME:CEST
DTSTART:20270328T010000
END:DAYLIGHT
BEGIN:STANDARD
TZOFFSETFROM:+0200
TZOFFSETTO:+0100
TZNAME:CET
DTSTART:20271031T010000
END:STANDARD
END:VTIMEZONE
BEGIN:VEVENT
DTSTART;TZID=Europe/Paris:20260523T090000
DTEND;TZID=Europe/Paris:20260523T110000
DTSTAMP:20260423T201558
CREATED:20221202T224417Z
LAST-MODIFIED:20250813T150043Z
UID:3456-1779526800-1779534000@loparvi.fr
SUMMARY:Le guêpier d'Europe
DESCRIPTION:ENS Dune des Mémoires – Vignieu\n \nParmi tous les oiseaux migrateurs\, il en est un qui est particulièrement attendu au printemps\, son cri roulé caractéristique trahit sa présence. Il s’agit du très coloré Guêpier d’Europe.\nConstamment à l’affût\, perché à la cime d’un arbre ou sur une clôture\, le guêpier est un redoutable chasseur d’insectes. Comme son nom l’indique\, il affectionne les guêpes et frelons mais aussi les papillons\, libellules et autres insectes qu’il attrape en vol.\nLes guêpiers nichent en colonie\, ils creusent un terrier horizontal dans le sol ou à flanc de falaise de sable dont la profondeur peut dépasser les deux mètres ! \n(Jean-Marc Ferro)
URL:https://loparvi.fr/events/le-guepier-deurope/
LOCATION:ENS Dune sableuse des Mémoires\, Vignieu\, France
CATEGORIES:Lo Parvi
ATTACH;FMTTYPE=image/jpeg:https://loparvi.fr/wp-content/uploads/2022/12/chasseur-afrique.jpg
END:VEVENT
END:VCALENDAR