BEGIN:VCALENDAR
VERSION:2.0
PRODID:-//LO PARVI - ECPv6.15.18//NONSGML v1.0//EN
CALSCALE:GREGORIAN
METHOD:PUBLISH
X-ORIGINAL-URL:https://loparvi.fr
X-WR-CALDESC:Évènements pour LO PARVI
REFRESH-INTERVAL;VALUE=DURATION:PT1H
X-Robots-Tag:noindex
X-PUBLISHED-TTL:PT1H
BEGIN:VTIMEZONE
TZID:Europe/Paris
BEGIN:DAYLIGHT
TZOFFSETFROM:+0100
TZOFFSETTO:+0200
TZNAME:CEST
DTSTART:20250330T010000
END:DAYLIGHT
BEGIN:STANDARD
TZOFFSETFROM:+0200
TZOFFSETTO:+0100
TZNAME:CET
DTSTART:20251026T010000
END:STANDARD
BEGIN:DAYLIGHT
TZOFFSETFROM:+0100
TZOFFSETTO:+0200
TZNAME:CEST
DTSTART:20260329T010000
END:DAYLIGHT
BEGIN:STANDARD
TZOFFSETFROM:+0200
TZOFFSETTO:+0100
TZNAME:CET
DTSTART:20261025T010000
END:STANDARD
BEGIN:DAYLIGHT
TZOFFSETFROM:+0100
TZOFFSETTO:+0200
TZNAME:CEST
DTSTART:20270328T010000
END:DAYLIGHT
BEGIN:STANDARD
TZOFFSETFROM:+0200
TZOFFSETTO:+0100
TZNAME:CET
DTSTART:20271031T010000
END:STANDARD
END:VTIMEZONE
BEGIN:VEVENT
DTSTART;TZID=Europe/Paris:20260613T090000
DTEND;TZID=Europe/Paris:20260613T120000
DTSTAMP:20260424T044856
CREATED:20221203T094626Z
LAST-MODIFIED:20250813T150710Z
UID:3472-1781341200-1781352000@loparvi.fr
SUMMARY:Les papillons de jour de l’Isle Crémieu
DESCRIPTION:ENS Etang de Bas – Siccieu \nFleurons de nos prairies fleuries\, les papillons ont souffert de l’intensification agricole\, de l’utilisation intensive des pesticides et de la perturbation des écosystèmes. Ces insectes jouent pourtant un rôle indipensable dans la pollinisation de nombreuses espèces de plantes. Nous vous proposons une balade filet en main pour les découvrir et les reconnaître. \n(Martine Ravet)
URL:https://loparvi.fr/events/les-papillons-de-jour-de-lisle-cremieu/
LOCATION:ENS de l’Etang de Bas\, Etang de Bas\, Siccieu\, France
CATEGORIES:Lo Parvi
ATTACH;FMTTYPE=image/jpeg:https://loparvi.fr/wp-content/uploads/2024/06/Aporia-crataegi_2-Azure.jpg
END:VEVENT
END:VCALENDAR