BEGIN:VCALENDAR
VERSION:2.0
PRODID:-//LO PARVI - ECPv6.15.18//NONSGML v1.0//EN
CALSCALE:GREGORIAN
METHOD:PUBLISH
X-WR-CALNAME:LO PARVI
X-ORIGINAL-URL:https://loparvi.fr
X-WR-CALDESC:Évènements pour LO PARVI
REFRESH-INTERVAL;VALUE=DURATION:PT1H
X-Robots-Tag:noindex
X-PUBLISHED-TTL:PT1H
BEGIN:VTIMEZONE
TZID:Europe/Paris
BEGIN:DAYLIGHT
TZOFFSETFROM:+0100
TZOFFSETTO:+0200
TZNAME:CEST
DTSTART:20240331T010000
END:DAYLIGHT
BEGIN:STANDARD
TZOFFSETFROM:+0200
TZOFFSETTO:+0100
TZNAME:CET
DTSTART:20241027T010000
END:STANDARD
BEGIN:DAYLIGHT
TZOFFSETFROM:+0100
TZOFFSETTO:+0200
TZNAME:CEST
DTSTART:20250330T010000
END:DAYLIGHT
BEGIN:STANDARD
TZOFFSETFROM:+0200
TZOFFSETTO:+0100
TZNAME:CET
DTSTART:20251026T010000
END:STANDARD
BEGIN:DAYLIGHT
TZOFFSETFROM:+0100
TZOFFSETTO:+0200
TZNAME:CEST
DTSTART:20260329T010000
END:DAYLIGHT
BEGIN:STANDARD
TZOFFSETFROM:+0200
TZOFFSETTO:+0100
TZNAME:CET
DTSTART:20261025T010000
END:STANDARD
END:VTIMEZONE
BEGIN:VEVENT
DTSTART;TZID=Europe/Paris:20251001T140000
DTEND;TZID=Europe/Paris:20251001T170000
DTSTAMP:20260425T195201
CREATED:20220414T141835Z
LAST-MODIFIED:20250814T135002Z
UID:1788-1759327200-1759338000@loparvi.fr
SUMMARY:Entretien d’une tourbière à droséras (CHANTIER)
DESCRIPTION:Tuffière du moulin de Vallière à Montalieu \nLe Conservatoire des espaces naturels de l’Isère (CEN 38) possède dans l’Isle Crémieu une petite tourbière abritant la très rare plante carnivore dénommée Drosera à feuilles longues. \nPour maintenir l’habitat de cette plante fragile\, il est nécessaire d’effectuer une fois par an une fauche tardive de la végétation. Fourches\, râteaux à foin\, sécateurs sont les bienvenus ! \nAlexandre Gauthier et CEN Isère (Conservatoire des Espaces Naturels)
URL:https://loparvi.fr/events/entretien-dune-tourbiere-a-droseras/
LOCATION:Montalieu RV sur inscription\, RV sur inscription\, Montalieu\, France
CATEGORIES:Lo Parvi
ATTACH;FMTTYPE=image/jpeg:https://loparvi.fr/wp-content/uploads/2024/06/Drosera.jpg
END:VEVENT
BEGIN:VEVENT
DTSTART;TZID=Europe/Paris:20251011T090000
DTEND;TZID=Europe/Paris:20251011T120000
DTSTAMP:20260425T195201
CREATED:20240714T210048Z
LAST-MODIFIED:20250814T135609Z
UID:4990-1760173200-1760184000@loparvi.fr
SUMMARY:La tournée des mares
DESCRIPTION:Depuis 4 ans\, lo Parvi organise un atelier de création de mares sur différentes communes de l’Isle Crémieu. \nCette sortie sera l’occasion de visiter certaines d’entre elles pour constater leur évolution\, les réussites et parfois aussi les difficultés liées à leur entretien. \nElle permettra aussi d’échanger sur les choix liés à leur emplacement et enfin d’inciter à la création de nouvelles mares\, magnifiques réservoirs de biodiversité. \nCommission jardin-biodiversité
URL:https://loparvi.fr/events/la-tournee-des-mares/
LOCATION:Isle Crémieu
CATEGORIES:Lo Parvi
ATTACH;FMTTYPE=image/jpeg:https://loparvi.fr/wp-content/uploads/2024/07/tournee-des-mares.jpg
END:VEVENT
BEGIN:VEVENT
DTSTART;TZID=Europe/Paris:20251015T093000
DTEND;TZID=Europe/Paris:20251015T113000
DTSTAMP:20260425T195201
CREATED:20230726T214123Z
LAST-MODIFIED:20250814T140612Z
UID:4057-1760520600-1760527800@loparvi.fr
SUMMARY:Bijoux de nature
DESCRIPTION:Votre jardin et la nature environnante regorgent de trésors pour se fabriquer des parures végétales et compostables ! \nQuelques longues feuilles\, une perle en bois et d’autres éléments naturels seront présentés et mis en œuvre pour créer des bijoux\, bracelet ou\ncollier\, selon votre envie et votre imagination. \nUn temps de découverte du tressage de ces végétaux souples et solides\, colorés et odorants\, qui vagabonderont entre vos doigts pour\nse transformer en un bijou personnalisé. \n(Marlète Quintino et Corine Trentin)
URL:https://loparvi.fr/events/bijoux-de-nature/
LOCATION:ENS mares de Craquenot\, Charette\, 38390\, France
CATEGORIES:Lo Parvi
ATTACH;FMTTYPE=image/jpeg:https://loparvi.fr/wp-content/uploads/2023/07/image-pour-sortie-bijoux-nature.jpg
END:VEVENT
END:VCALENDAR